Workbook

Sheet Welcome
A1: 1
A8: Read the post at:
A9: https://wmfexcel.com/2021/03/13/excel-indirect-function-explained-with-a-use-case/

Sheet SimpleDemo
A1: D10
B2: Hi | D2: Would
B3: Why | D3: it
B4: and | D4: be
B5: when | D5: more
B6: we | D6: effective
B7: use | D7: to
B8: INDIRECT | D8: use
D9: direct
D10: reference?
B12: {=INDIRECT(A1)} -> reference? | C12: =_xlfn.FORMULATEXT(B12) -> =INDIRECT(A1)

Sheet Ada
B2: Week | C2: 202101
B3: Staff ID | C3: A001
B4: Staff Name | C4: Ada
B6: Date | C6: Shift | D6: In | E6: Out | F6: Hours Worked
B7: 44197 | C7: D | D7: 0.66243474 | E7: 0.97493474 | F7: 7.5
B8: 44198 | C8: D | D8: 0.12329509 | E8: 0.53162842 | F8: 9.8
B9: 44199 | C9: O
B10: 44200 | C10: O
B11: 44201 | C11: O
B12: 44202 | C12: O
B13: 44203 | C13: N | D13: 0.90551221 | E13: 1.2513455 | F13: 8.3
B15: D Shift Count | C15: =COUNTIF($C$7:$C$13,"D") -> 2 | E15: Total Hours | F15: =SUM(F7:F13) -> 25.6
B16: N Shift Count | C16: =COUNTIF($C$7:$C$13,"N") -> 1 | E16: Workdays | F16: =COUNT(F7:F13) -> 3
B17: O Shift Count | C17: =COUNTIF($C$7:$C$13,"O") -> 4

Sheet Ben
B2: Week | C2: 202101
B3: Staff ID | C3: A002
B4: Staff Name | C4: Ben
B6: Date | C6: Shift | D6: In | E6: Out | F6: Hours Worked
B7: 44197 | C7: D | D7: 0.20233716 | E7: 0.45650383 | F7: 6.1
B8: 44198 | C8: N | D8: 0.72857477 | E8: 1.1285748 | F8: 9.6
B9: 44199 | C9: N | D9: 0.033847456 | E9: 0.40051412 | F9: 8.8
B10: 44200 | C10: D | D10: 0.33651219 | E10: 0.61151219 | F10: 6.6
B11: 44201 | C11: D | D11: 0.95805328 | E11: 1.1705533 | F11: 5.1
B12: 44202 | C12: O
B13: 44203 | C13: D | D13: 0.072602579 | E13: 0.36426925 | F13: 7
B15: D Shift Count | C15: =COUNTIF($C$7:$C$13,"D") -> 4 | E15: Total Hours | F15: =SUM(F7:F13) -> 43.2
B16: N Shift Count | C16: =COUNTIF($C$7:$C$13,"N") -> 2 | E16: Workdays | F16: =COUNT(F7:F13) -> 6
B17: O Shift Count | C17: =COUNTIF($C$7:$C$13,"O") -> 1

Sheet Candy
B2: Week | C2: 202101
B3: Staff ID | C3: A003
B4: Staff Name | C4: Candy
B6: Date | C6: Shift | D6: In | E6: Out | F6: Hours Worked
B7: 44197 | C7: D | D7: 0.42856689 | E7: 0.65773355 | F7: 5.5
B8: 44198 | C8: N | D8: 0.23207073 | E8: 0.56540406 | F8: 8
B9: 44199 | C9: D | D9: 0.45909188 | E9: 0.82992521 | F9: 8.9
B10: 44200 | C10: N | D10: 0.30048344 | E10: 0.55048344 | F10: 6
B11: 44201 | C11: D | D11: 0.078416635 | E11: 0.34924997 | F11: 6.5
B12: 44202 | C12: D | D12: 0.78674039 | E12: 1.1450737 | F12: 8.6
B13: 44203 | C13: O
B15: D Shift Count | C15: =COUNTIF($C$7:$C$13,"D") -> 4 | E15: Total Hours | F15: =SUM(F7:F13) -> 43.5
B16: N Shift Count | C16: =COUNTIF($C$7:$C$13,"N") -> 2 | E16: Workdays | F16: =COUNT(F7:F13) -> 6
B17: O Shift Count | C17: =COUNTIF($C$7:$C$13,"O") -> 1

Sheet David
B2: Week | C2: 202101
B3: Staff ID | C3: A004
B4: Staff Name | C4: David
B6: Date | C6: Shift | D6: In | E6: Out | F6: Hours Worked
B7: 44197 | C7: O
B8: 44198 | C8: N | D8: 0.54895425 | E8: 0.92395425 | F8: 9
B9: 44199 | C9: N | D9: 0.31485882 | E9: 0.72735882 | F9: 9.9
B10: 44200 | C10: D | D10: 0.91451492 | E10: 1.2895149 | F10: 9
B11: 44201 | C11: D | D11: 0.17917451 | E11: 0.56667451 | F11: 9.3
B12: 44202 | C12: O
B13: 44203 | C13: N | D13: 0.012465291 | E13: 0.32913196 | F13: 7.6
B15: D Shift Count | C15: =COUNTIF($C$7:$C$13,"D") -> 2 | E15: Total Hours | F15: =SUM(F7:F13) -> 44.8
B16: N Shift Count | C16: =COUNTIF($C$7:$C$13,"N") -> 3 | E16: Workdays | F16: =COUNT(F7:F13) -> 5
B17: O Shift Count | C17: =COUNTIF($C$7:$C$13,"O") -> 2

Sheet Eva
B2: Week | C2: 202101
B3: Staff ID | C3: A005
B4: Staff Name | C4: Eva
B6: Date | C6: Shift | D6: In | E6: Out | F6: Hours Worked
B7: 44197 | C7: N | D7: 0.4659511 | E7: 0.85761777 | F7: 9.4
B8: 44198 | C8: D | D8: 0.20082461 | E8: 0.51332461 | F8: 7.5
B9: 44199 | C9: D | D9: 0.081701175 | E9: 0.49003451 | F9: 9.8
B10: 44200 | C10: O
B11: 44201 | C11: O
B12: 44202 | C12: D | D12: 0.58332863 | E12: 0.8374953 | F12: 6.1
B13: 44203 | C13: N | D13: 0.53988722 | E13: 0.87738722 | F13: 8.1
B15: D Shift Count | C15: =COUNTIF($C$7:$C$13,"D") -> 3 | E15: Total Hours | F15: =SUM(F7:F13) -> 40.9
B16: N Shift Count | C16: =COUNTIF($C$7:$C$13,"N") -> 2 | E16: Workdays | F16: =COUNT(F7:F13) -> 5
B17: O Shift Count | C17: =COUNTIF($C$7:$C$13,"O") -> 2

Sheet Summary(direct)
C2: Week | D2: Staff ID | E2: Staff Name | F2: D Shift Count | G2: N Shift Count | H2: O Shift Count | I2: Total Hours | J2: Workdays
C3: =Ada!C2 -> 202101 | D3: =Ada!C3 -> A001 | E3: =Ada!C4 -> Ada | F3: =Ada!C15 -> 2 | G3: =Ada!C16 -> 1 | H3: =Ada!C17 -> 4 | I3: =Ada!F15 -> 25.6 | J3: =Ada!F16 -> 3
C4: =Ben!C2 -> 202101 | D4: =Ben!C3 -> A002 | E4: =Ben!C4 -> Ben | F4: =Ben!C15 -> 4 | G4: =Ben!C16 -> 2 | H4: =Ben!C17 -> 1 | I4: =Ben!F15 -> 43.2 | J4: =Ben!F16 -> 6

Sheet Summary(INDIRECT)
C1: !C2 | D1: !C3 | E1: !C4 | F1: !C15 | G1: !C16 | H1: !C17 | I1: !F15 | J1: !F16
A2: Sheet | C2: Week | D2: Staff ID | E2: Staff Name | F2: D Shift Count | G2: N Shift Count | H2: O Shift Count | I2: Total Hours | J2: Workdays
A3: Ada | C3: {=INDIRECT($A3 & C$1)} -> 202101 | D3: {=INDIRECT($A3 & D$1)} -> A001 | E3: {=INDIRECT($A3 & E$1)} -> Ada | F3: {=INDIRECT($A3 & F$1)} -> 2 | G3: {=INDIRECT($A3 & G$1)} -> 1 | H3: {=INDIRECT($A3 & H$1)} -> 4 | I3: {=INDIRECT($A3 & I$1)} -> 25.6 | J3: {=INDIRECT($A3 & J$1)} -> 3
A4: Ben | C4: {=INDIRECT($A4 & C$1)} -> 202101 | D4: {=INDIRECT($A4 & D$1)} -> A002 | E4: {=INDIRECT($A4 & E$1)} -> Ben | F4: {=INDIRECT($A4 & F$1)} -> 4 | G4: {=INDIRECT($A4 & G$1)} -> 2 | H4: {=INDIRECT($A4 & H$1)} -> 1 | I4: {=INDIRECT($A4 & I$1)} -> 43.2 | J4: {=INDIRECT($A4 & J$1)} -> 6
A5: Candy | C5: {=INDIRECT($A5 & C$1)} -> 202101 | D5: {=INDIRECT($A5 & D$1)} -> A003 | E5: {=INDIRECT($A5 & E$1)} -> Candy | F5: {=INDIRECT($A5 & F$1)} -> 4 | G5: {=INDIRECT($A5 & G$1)} -> 2 | H5: {=INDIRECT($A5 & H$1)} -> 1 | I5: {=INDIRECT($A5 & I$1)} -> 43.5 | J5: {=INDIRECT($A5 & J$1)} -> 6
A6: David | C6: {=INDIRECT($A6 & C$1)} -> 202101 | D6: {=INDIRECT($A6 & D$1)} -> A004 | E6: {=INDIRECT($A6 & E$1)} -> David | F6: {=INDIRECT($A6 & F$1)} -> 2 | G6: {=INDIRECT($A6 & G$1)} -> 3 | H6: {=INDIRECT($A6 & H$1)} -> 2 | I6: {=INDIRECT($A6 & I$1)} -> 44.8 | J6: {=INDIRECT($A6 & J$1)} -> 5
A7: Eva | C7: {=INDIRECT($A7 & C$1)} -> 202101 | D7: {=INDIRECT($A7 & D$1)} -> A005 | E7: {=INDIRECT($A7 & E$1)} -> Eva | F7: {=INDIRECT($A7 & F$1)} -> 3 | G7: {=INDIRECT($A7 & G$1)} -> 2 | H7: {=INDIRECT($A7 & H$1)} -> 2 | I7: {=INDIRECT($A7 & I$1)} -> 40.9 | J7: {=INDIRECT($A7 & J$1)} -> 5
