Workbook
Name Slicer_Month: #N/A
Name Slicer_Region: #N/A
Name Slicer_Store_ID: #N/A

Sheet Welcome
A1: 1
A8: Read the post at:
A9: http://wmfexcel.com/2019/08/03/interesting-behavior-of-copy-and-paste

Sheet Pivot
B1: Month | C1: (All)
B3: Row Labels | C3: Total Sales
B4: Causeway Bay | C4: 2.1887328e+08
B5: Central | C5: 74273501
B6: MongKok | C6: 90320704
B7: Tsim Sha Tsui | C7: 1.4368583e+08
B8: Tsuen Wan | C8: 1.5061156e+08
B9: Grand Total | C9: 6.7776487e+08
B12: Region | C12: Q1 | D12: Q2 | E12: H1
B13: Causeway Bay
B14: Central
B15: MongKok
B16: Tsim Sha Tsui
B17: Tsuen Wan
B18: Grand Total

Sheet Dashboard
D1: Store KPIs - FY 2016
D3: %Var to Target | G3: Net Sales | I3: Avg. Trans Value | K3: Avg. Unit Price | M3: Unit per Trans
D4: =GETPIVOTDATA("Sum of %var",Pivot!$B$2) -> #REF! | G4: =GETPIVOTDATA("Sum of Net Sales",Pivot!$B$2) -> #REF! | I4: =GETPIVOTDATA("Sum of atv",Pivot!$B$2) -> #REF! | K4: =GETPIVOTDATA("Sum of aup",Pivot!$B$2) -> #REF! | M4: =GETPIVOTDATA("Sum of upt",Pivot!$B$2) -> #REF!
D12: Monthly Summary
D13: =Pivot!B3 -> Row Labels | E13: =Pivot!C3 -> Total Sales | G13: =Pivot!D3 -> 0 | I13: =Pivot!E3 -> 0 | K13: =Pivot!F3 -> 0 | M13: =Pivot!G3 -> 0
D14: =Pivot!B4 -> Causeway Bay | E14: =Pivot!C4 -> 2.1887328e+08 | G14: =Pivot!D4 -> 0 | I14: =Pivot!E4 -> 0 | K14: =Pivot!F4 -> 0 | M14: =Pivot!G4 -> 0
D15: =Pivot!B5 -> Central | E15: =Pivot!C5 -> 74273501 | G15: =Pivot!D5 -> 0 | I15: =Pivot!E5 -> 0 | K15: =Pivot!F5 -> 0 | M15: =Pivot!G5 -> 0
D16: =Pivot!B6 -> MongKok | E16: =Pivot!C6 -> 90320704 | G16: =Pivot!D6 -> 0 | I16: =Pivot!E6 -> 0 | K16: =Pivot!F6 -> 0 | M16: =Pivot!G6 -> 0
D17: =Pivot!B7 -> Tsim Sha Tsui | E17: =Pivot!C7 -> 1.4368583e+08 | G17: =Pivot!D7 -> 0 | I17: =Pivot!E7 -> 0 | K17: =Pivot!F7 -> 0 | M17: =Pivot!G7 -> 0
D18: =Pivot!B8 -> Tsuen Wan | E18: =Pivot!C8 -> 1.5061156e+08 | G18: =Pivot!D8 -> 0 | I18: =Pivot!E8 -> 0 | K18: =Pivot!F8 -> 0 | M18: =Pivot!G8 -> 0
D19: =Pivot!B9 -> Grand Total | E19: =Pivot!C9 -> 6.7776487e+08 | G19: =Pivot!D9 -> 0 | I19: =Pivot!E9 -> 0 | K19: =Pivot!F9 -> 0 | M19: =Pivot!G9 -> 0
D20: =Pivot!B10 -> 0 | E20: =Pivot!C10 -> 0 | G20: =Pivot!D10 -> 0 | I20: =Pivot!E10 -> 0 | K20: =Pivot!F10 -> 0 | M20: =Pivot!G10 -> 0
D21: =Pivot!B11 -> 0 | E21: =Pivot!C11 -> 0 | G21: =Pivot!D11 -> 0 | I21: =Pivot!E11 -> 0 | K21: =Pivot!F11 -> 0 | M21: =Pivot!G11 -> 0
D22: =Pivot!#REF! -> #REF! | E22: =Pivot!#REF! -> #REF! | G22: =Pivot!#REF! -> #REF! | I22: =Pivot!E12 -> H1 | K22: =Pivot!F12 -> 0 | M22: =Pivot!G12 -> 0
D23: =Pivot!#REF! -> #REF! | E23: =Pivot!#REF! -> #REF! | G23: =Pivot!#REF! -> #REF! | I23: =Pivot!E13 -> 0 | K23: =Pivot!F13 -> 0 | M23: =Pivot!G13 -> 0
D24: =Pivot!B12 -> Region | E24: =Pivot!C12 -> Q1 | G24: =Pivot!D12 -> Q2 | I24: =Pivot!E14 -> 0 | K24: =Pivot!F14 -> 0 | M24: =Pivot!G14 -> 0
